BEGIN:VCALENDAR
VERSION:2.0
PRODID:-// - ECPv6.14.0//NONSGML v1.0//EN
CALSCALE:GREGORIAN
METHOD:PUBLISH
X-ORIGINAL-URL:http://gulfcoastcofc.org
X-WR-CALDESC:Events for 
REFRESH-INTERVAL;VALUE=DURATION:PT1H
X-Robots-Tag:noindex
X-PUBLISHED-TTL:PT1H
BEGIN:VTIMEZONE
TZID:America/Chicago
BEGIN:DAYLIGHT
TZOFFSETFROM:-0600
TZOFFSETTO:-0500
TZNAME:CDT
DTSTART:20210314T080000
END:DAYLIGHT
BEGIN:STANDARD
TZOFFSETFROM:-0500
TZOFFSETTO:-0600
TZNAME:CST
DTSTART:20211107T070000
END:STANDARD
BEGIN:DAYLIGHT
TZOFFSETFROM:-0600
TZOFFSETTO:-0500
TZNAME:CDT
DTSTART:20220313T080000
END:DAYLIGHT
BEGIN:STANDARD
TZOFFSETFROM:-0500
TZOFFSETTO:-0600
TZNAME:CST
DTSTART:20221106T070000
END:STANDARD
BEGIN:DAYLIGHT
TZOFFSETFROM:-0600
TZOFFSETTO:-0500
TZNAME:CDT
DTSTART:20230312T080000
END:DAYLIGHT
BEGIN:STANDARD
TZOFFSETFROM:-0500
TZOFFSETTO:-0600
TZNAME:CST
DTSTART:20231105T070000
END:STANDARD
END:VTIMEZONE
BEGIN:VEVENT
DTSTART;VALUE=DATE:20230727
DTEND;VALUE=DATE:20230731
DTSTAMP:20260424T161711
CREATED:20221129T235638Z
LAST-MODIFIED:20221129T235638Z
UID:3505-1690416000-1690761599@gulfcoastcofc.org
SUMMARY:Gospel Meeting at the Barbers Hill Church of Christ in Mt. Belvieu
DESCRIPTION:
URL:http://gulfcoastcofc.org/event/gospel-meeting-at-the-barbers-hill-church-of-christ-in-mt-belvieu/
LOCATION:Mont Belvieu Church of Christ\, 9902 Eagle Dr\, Mont Belvieu\, TX\, 77580\, United States
END:VEVENT
BEGIN:VEVENT
DTSTART;VALUE=DATE:20230721
DTEND;VALUE=DATE:20230724
DTSTAMP:20260424T161711
CREATED:20221129T235422Z
LAST-MODIFIED:20221129T235422Z
UID:3503-1689897600-1690156799@gulfcoastcofc.org
SUMMARY:Church of Christ Area-Wide Meeting in Denton\, Texas
DESCRIPTION:
URL:http://gulfcoastcofc.org/event/church-of-christ-area-wide-meeting-in-denton-texas/
LOCATION:TX
END:VEVENT
BEGIN:VEVENT
DTSTART;VALUE=DATE:20230709
DTEND;VALUE=DATE:20230717
DTSTAMP:20260424T161711
CREATED:20221129T235153Z
LAST-MODIFIED:20221129T235153Z
UID:3501-1688860800-1689551999@gulfcoastcofc.org
SUMMARY:Gospel Meeting at the Golden Triangle Church of Christ in Nederland
DESCRIPTION:
URL:http://gulfcoastcofc.org/event/gospel-meeting-at-the-golden-triangle-church-of-christ-in-nederland-4/
LOCATION:Golden Triangle Church of Christ\, 103 Nederland Ave\, Nederland\, TX\, 77627\, United States
END:VEVENT
BEGIN:VEVENT
DTSTART;VALUE=DATE:20230706
DTEND;VALUE=DATE:20230710
DTSTAMP:20260424T161711
CREATED:20221129T235050Z
LAST-MODIFIED:20221129T235050Z
UID:3499-1688601600-1688947199@gulfcoastcofc.org
SUMMARY:Gospel Meeting at the Gallatin Church of Christ in Gallatin
DESCRIPTION:
URL:http://gulfcoastcofc.org/event/gospel-meeting-at-the-gallatin-church-of-christ-in-gallatin-2/
LOCATION:Gallatin Church of Christ\, Gallatin\, TX\, United States
END:VEVENT
BEGIN:VEVENT
DTSTART;VALUE=DATE:20230705
DTEND;VALUE=DATE:20230710
DTSTAMP:20260424T161711
CREATED:20221129T234932Z
LAST-MODIFIED:20221129T234932Z
UID:3497-1688515200-1688947199@gulfcoastcofc.org
SUMMARY:Gospel Meeting at the 1442 Church of Christ in Orange
DESCRIPTION:
URL:http://gulfcoastcofc.org/event/gospel-meeting-at-the-1442-church-of-christ-in-orange-2/
LOCATION:1442 Church of Christ\, 15497 FM 1442\, Orange\, TX\, 77632\, United States
END:VEVENT
BEGIN:VEVENT
DTSTART;VALUE=DATE:20230702
DTEND;VALUE=DATE:20230708
DTSTAMP:20260424T161711
CREATED:20221129T234830Z
LAST-MODIFIED:20221129T234830Z
UID:3495-1688256000-1688774399@gulfcoastcofc.org
SUMMARY:Gospel Meeting at the N. 7th St. Church of Christ in Harlingen
DESCRIPTION:
URL:http://gulfcoastcofc.org/event/gospel-meeting-at-the-n-7th-st-church-of-christ-in-harlingen-6/
LOCATION:N. 7th St. Church of Christ\, 2205 N. 7th St\, Harlingen\, TX\, 78550\, United States
END:VEVENT
BEGIN:VEVENT
DTSTART;VALUE=DATE:20230618
DTEND;VALUE=DATE:20230625
DTSTAMP:20260424T161711
CREATED:20221129T234706Z
LAST-MODIFIED:20221129T234706Z
UID:3493-1687046400-1687651199@gulfcoastcofc.org
SUMMARY:Gospel Meeting at the Westside Church of Christ in Pearland
DESCRIPTION:
URL:http://gulfcoastcofc.org/event/gospel-meeting-at-the-westside-church-of-christ-in-pearland-9/
LOCATION:Westside Church of Christ\, 6203 West Broadway\, Pearland\, TX\, 77581\, United States
END:VEVENT
BEGIN:VEVENT
DTSTART;VALUE=DATE:20230611
DTEND;VALUE=DATE:20230619
DTSTAMP:20260424T161711
CREATED:20221129T234543Z
LAST-MODIFIED:20221129T234543Z
UID:3491-1686441600-1687132799@gulfcoastcofc.org
SUMMARY:Gospel Meeting at the College Park Church of Christ in Conroe
DESCRIPTION:
URL:http://gulfcoastcofc.org/event/gospel-meeting-at-the-college-park-church-of-christ-in-conroe-10/
LOCATION:College Park Church of Christ\, 17612 FM 1314\, Conroe\, TX\, 77302\, United States
END:VEVENT
BEGIN:VEVENT
DTSTART;TZID=America/Chicago:20230325T190000
DTEND;TZID=America/Chicago:20230325T210000
DTSTAMP:20260424T161711
CREATED:20221129T234438Z
LAST-MODIFIED:20221129T234438Z
UID:3489-1679770800-1679778000@gulfcoastcofc.org
SUMMARY:Area-Wide Singing at the Westside Church of Christ in Pearland
DESCRIPTION:
URL:http://gulfcoastcofc.org/event/area-wide-singing-at-the-westside-church-of-christ-in-pearland-2/
LOCATION:Westside Church of Christ\, 6203 West Broadway\, Pearland\, TX\, 77581\, United States
END:VEVENT
BEGIN:VEVENT
DTSTART;VALUE=DATE:20230309
DTEND;VALUE=DATE:20230313
DTSTAMP:20260424T161711
CREATED:20221129T232646Z
LAST-MODIFIED:20221130T171547Z
UID:3487-1678320000-1678665599@gulfcoastcofc.org
SUMMARY:Gospel Meeting at the Gallatin Church of Christ in Gallatin
DESCRIPTION:
URL:http://gulfcoastcofc.org/event/gospel-meeting-at-the-gallatin-church-of-christ-in-gallatin/
LOCATION:Gallatin Church of Christ\, Gallatin\, TX\, United States
END:VEVENT
BEGIN:VEVENT
DTSTART;VALUE=DATE:20230301
DTEND;VALUE=DATE:20230306
DTSTAMP:20260424T161711
CREATED:20221129T232542Z
LAST-MODIFIED:20230215T212144Z
UID:3485-1677628800-1678060799@gulfcoastcofc.org
SUMMARY:Gospel Meeting at the College Park Church of Christ in Conroe (Jubilee on Saturday)
DESCRIPTION:Service times are 7:30 P.M. Wednesday through Friday\, and 10:30 and 2:00 on Sunday. \nThere will be no service on Saturday. Instead\, the Annual Jubilee and Benefit Auction will take place\, starting at 1 P.M.
URL:http://gulfcoastcofc.org/event/gospel-meeting-at-the-college-park-church-of-christ-in-conroe-9/
LOCATION:College Park Church of Christ\, 17612 FM 1314\, Conroe\, TX\, 77302\, United States
END:VEVENT
BEGIN:VEVENT
DTSTART;VALUE=DATE:20230223
DTEND;VALUE=DATE:20230226
DTSTAMP:20260424T161711
CREATED:20221129T232356Z
LAST-MODIFIED:20221129T232356Z
UID:3483-1677110400-1677369599@gulfcoastcofc.org
SUMMARY:Gospel Meeting at the Westside Church of Christ in Pearland
DESCRIPTION:
URL:http://gulfcoastcofc.org/event/gospel-meeting-at-the-westside-church-of-christ-in-pearland-8/
LOCATION:Westside Church of Christ\, 6203 West Broadway\, Pearland\, TX\, 77581\, United States
END:VEVENT
BEGIN:VEVENT
DTSTART;VALUE=DATE:20230217
DTEND;VALUE=DATE:20230220
DTSTAMP:20260424T161711
CREATED:20221129T232058Z
LAST-MODIFIED:20221129T232058Z
UID:3479-1676592000-1676851199@gulfcoastcofc.org
SUMMARY:Southern Region Meeting in Oxford\, Alabama
DESCRIPTION:Come and join us for the 2023 Southern Region Meeting\, hosted by Jamison Crouch! \nTopic: “Set in order the things that are wanting” – Titus 1:5 \nFriday\, the 17th\, we will have a singing night\, which starts at 7:00 pm.\nSaturday\, the 19th\, we will begin at 9:00 am\, followed by our speakers:\nChase Palmer\nWayne Lowry\nHugh Miller\nShawn Zybach\n(Lunch will be provided) \nDoors open at least 1 hour ahead of the scheduled times. Hope to see you there!
URL:http://gulfcoastcofc.org/event/southern-region-meeting-in-oxford-alabama/
LOCATION:Fairview Church of Christ\, 2780 Hwy 78W\, Oxford\, AL\, 36203\, United States
END:VEVENT
BEGIN:VEVENT
DTSTART;VALUE=DATE:20230205
DTEND;VALUE=DATE:20230213
DTSTAMP:20260424T161711
CREATED:20221129T231608Z
LAST-MODIFIED:20221129T231608Z
UID:3477-1675555200-1676246399@gulfcoastcofc.org
SUMMARY:Gospel Meeting at the N. 7th St. Church of Christ in Harlingen
DESCRIPTION:
URL:http://gulfcoastcofc.org/event/gospel-meeting-at-the-n-7th-st-church-of-christ-in-harlingen-5/
LOCATION:N. 7th St. Church of Christ\, 2205 N. 7th St\, Harlingen\, TX\, 78550\, United States
END:VEVENT
BEGIN:VEVENT
DTSTART;TZID=America/Chicago:20230204T190000
DTEND;TZID=America/Chicago:20230204T210000
DTSTAMP:20260424T161711
CREATED:20221129T231224Z
LAST-MODIFIED:20221129T231224Z
UID:3473-1675537200-1675544400@gulfcoastcofc.org
SUMMARY:Area-Wide Singing at the Baytown Church of Christ
DESCRIPTION:
URL:http://gulfcoastcofc.org/event/area-wide-singing-at-the-baytown-church-of-christ-2/
LOCATION:Baytown Church of Christ\, 5308 N Main St.\, Baytown\, TX\, 77521\, United States
END:VEVENT
BEGIN:VEVENT
DTSTART;VALUE=DATE:20230201
DTEND;VALUE=DATE:20230206
DTSTAMP:20260424T161711
CREATED:20221129T231359Z
LAST-MODIFIED:20221129T231359Z
UID:3474-1675209600-1675641599@gulfcoastcofc.org
SUMMARY:Gospel Meeting at the 1442 Church of Christ in Orange
DESCRIPTION:
URL:http://gulfcoastcofc.org/event/gospel-meeting-at-the-1442-church-of-christ-in-orange/
LOCATION:1442 Church of Christ\, 15497 FM 1442\, Orange\, TX\, 77632\, United States
END:VEVENT
BEGIN:VEVENT
DTSTART;VALUE=DATE:20221013
DTEND;VALUE=DATE:20221016
DTSTAMP:20260424T161711
CREATED:20220228T203723Z
LAST-MODIFIED:20220228T203826Z
UID:1759-1665619200-1665878399@gulfcoastcofc.org
SUMMARY:Men's Leadership Conference in Cedar Hill\, Texas.
DESCRIPTION:Contact Ian Jones at (806) 663-0213 for more information.
URL:http://gulfcoastcofc.org/event/mens-leadership-conference-in-cedar-hill-texas-2/
LOCATION:Mount Lebanon Camp\, 1701 Texas Plume Rd\, Cedar Hill\, TX\, 75104\, United States
END:VEVENT
BEGIN:VEVENT
DTSTART;VALUE=DATE:20220914
DTEND;VALUE=DATE:20220919
DTSTAMP:20260424T161711
CREATED:20220228T203134Z
LAST-MODIFIED:20220228T204020Z
UID:1757-1663113600-1663545599@gulfcoastcofc.org
SUMMARY:Gospel Meeting at the College Park Church of Christ in Conroe\, Texas.
DESCRIPTION:
URL:http://gulfcoastcofc.org/event/gospel-meeting-at-the-college-park-church-of-christ-in-conroe-texas-3/
LOCATION:College Park Church of Christ\, 17612 FM 1314\, Conroe\, TX\, 77302\, United States
END:VEVENT
BEGIN:VEVENT
DTSTART;VALUE=DATE:20220805
DTEND;VALUE=DATE:20220808
DTSTAMP:20260424T161711
CREATED:20220228T203038Z
LAST-MODIFIED:20220228T203038Z
UID:1755-1659657600-1659916799@gulfcoastcofc.org
SUMMARY:Gospel Meeting at the 1442 Church of Christ in Orange\, Texas.
DESCRIPTION:
URL:http://gulfcoastcofc.org/event/gospel-meeting-at-the-1442-church-of-christ-in-orange-texas-2/
LOCATION:1442 Church of Christ\, 15497 FM 1442\, Orange\, TX\, 77632\, United States
END:VEVENT
BEGIN:VEVENT
DTSTART;VALUE=DATE:20220731
DTEND;VALUE=DATE:20220807
DTSTAMP:20260424T161711
CREATED:20220228T202925Z
LAST-MODIFIED:20220228T202925Z
UID:1753-1659225600-1659830399@gulfcoastcofc.org
SUMMARY:Gospel Meeting at the N. 7th Street Church of Christ in Harlingen\, Texas.
DESCRIPTION:
URL:http://gulfcoastcofc.org/event/gospel-meeting-at-the-n-7th-street-church-of-christ-in-harlingen-texas/
LOCATION:N. 7th St. Church of Christ\, 2205 N. 7th St\, Harlingen\, TX\, 78550\, United States
END:VEVENT
BEGIN:VEVENT
DTSTART;VALUE=DATE:20220729
DTEND;VALUE=DATE:20220801
DTSTAMP:20260424T161711
CREATED:20220228T202727Z
LAST-MODIFIED:20220228T202727Z
UID:1750-1659052800-1659311999@gulfcoastcofc.org
SUMMARY:Church of Christ Area-Wide Meeting in Tulsa\, Oklahoma.
DESCRIPTION:
URL:http://gulfcoastcofc.org/event/church-of-christ-area-wide-meeting-in-tulsa-oklahoma/
LOCATION:Stoney Creek Hotel & Conference Center\, 200 W Albany St\, Broken Arrow\, OK\, 74012\, United States
END:VEVENT
BEGIN:VEVENT
DTSTART;VALUE=DATE:20220710
DTEND;VALUE=DATE:20220718
DTSTAMP:20260424T161711
CREATED:20220228T201934Z
LAST-MODIFIED:20220228T201934Z
UID:1748-1657411200-1658102399@gulfcoastcofc.org
SUMMARY:Gospel Meeting at the Golden Triangle Church of Christ in Nederland\, Texas.
DESCRIPTION:
URL:http://gulfcoastcofc.org/event/gospel-meeting-at-the-golden-triangle-church-of-christ-in-nederland-texas/
LOCATION:Golden Triangle Church of Christ\, 103 Nederland Ave\, Nederland\, TX\, 77627\, United States
END:VEVENT
BEGIN:VEVENT
DTSTART;VALUE=DATE:20220619
DTEND;VALUE=DATE:20220627
DTSTAMP:20260424T161711
CREATED:20220228T201741Z
LAST-MODIFIED:20220228T201741Z
UID:1745-1655596800-1656287999@gulfcoastcofc.org
SUMMARY:Gospel Meeting at the Westside Church of Christ in Pearland\, Texas.
DESCRIPTION:
URL:http://gulfcoastcofc.org/event/gospel-meeting-at-the-westside-church-of-christ-in-pearland-texas/
LOCATION:Westside Church of Christ\, 6203 West Broadway\, Pearland\, TX\, 77581\, United States
END:VEVENT
BEGIN:VEVENT
DTSTART;VALUE=DATE:20220612
DTEND;VALUE=DATE:20220620
DTSTAMP:20260424T161711
CREATED:20220228T201554Z
LAST-MODIFIED:20220228T201834Z
UID:1743-1654992000-1655683199@gulfcoastcofc.org
SUMMARY:Gospel Meeting at the College Park Church of Christ in Conroe\, Texas.
DESCRIPTION:Clint Goodman will preach on Sundays and in the evenings through the week. Tony Springer will be preaching Monday-Friday mornings.
URL:http://gulfcoastcofc.org/event/gospel-meeting-at-the-college-park-church-of-christ-in-conroe-texas-2/
LOCATION:College Park Church of Christ\, 17612 FM 1314\, Conroe\, TX\, 77302\, United States
END:VEVENT
BEGIN:VEVENT
DTSTART;VALUE=DATE:20220408
DTEND;VALUE=DATE:20220411
DTSTAMP:20260424T161711
CREATED:20220228T201236Z
LAST-MODIFIED:20220228T201236Z
UID:1741-1649376000-1649635199@gulfcoastcofc.org
SUMMARY:Gospel Meeting at the Baywood Church of Christ in Pasadena\, Texas.
DESCRIPTION:
URL:http://gulfcoastcofc.org/event/gospel-meeting-at-the-baywood-church-of-christ-in-pasadena-texas/
LOCATION:Baywood Church of Christ\, 4720 Space Center Blvd\, Pasadena\, TX\, 77505\, United States
END:VEVENT
BEGIN:VEVENT
DTSTART;VALUE=DATE:20220320
DTEND;VALUE=DATE:20220328
DTSTAMP:20260424T161711
CREATED:20220228T201137Z
LAST-MODIFIED:20220228T201137Z
UID:1739-1647734400-1648425599@gulfcoastcofc.org
SUMMARY:Gospel Meeting at the 14th St. Church of Christ in Texas City\, Texas.
DESCRIPTION:
URL:http://gulfcoastcofc.org/event/gospel-meeting-at-the-14th-st-church-of-christ-in-texas-city-texas/
LOCATION:22nd St. North Church of Christ\, 719 22nd St. North\, Texas City\, TX\, 77590\, United States
END:VEVENT
BEGIN:VEVENT
DTSTART;VALUE=DATE:20220317
DTEND;VALUE=DATE:20220321
DTSTAMP:20260424T161711
CREATED:20220228T201037Z
LAST-MODIFIED:20220228T201037Z
UID:1737-1647475200-1647820799@gulfcoastcofc.org
SUMMARY:Gospel Meeting at the Gallatin Church of Christ in Gallatin\, Texas.
DESCRIPTION:
URL:http://gulfcoastcofc.org/event/gospel-meeting-at-the-gallatin-church-of-christ-in-gallatin-texas/
LOCATION:Gallatin Church of Christ\, Gallatin\, TX\, United States
END:VEVENT
BEGIN:VEVENT
DTSTART;VALUE=DATE:20220304
DTEND;VALUE=DATE:20220307
DTSTAMP:20260424T161711
CREATED:20220226T061038Z
LAST-MODIFIED:20220226T061038Z
UID:1730-1646352000-1646611199@gulfcoastcofc.org
SUMMARY:Gospel Meeting at the 1442 Church of Christ in Orange\, Texas.
DESCRIPTION:
URL:http://gulfcoastcofc.org/event/gospel-meeting-at-the-1442-church-of-christ-in-orange-texas/
LOCATION:1442 Church of Christ\, 15497 FM 1442\, Orange\, TX\, 77632\, United States
END:VEVENT
BEGIN:VEVENT
DTSTART;VALUE=DATE:20220302
DTEND;VALUE=DATE:20220307
DTSTAMP:20260424T161711
CREATED:20220228T200858Z
LAST-MODIFIED:20220228T200858Z
UID:1735-1646179200-1646611199@gulfcoastcofc.org
SUMMARY:Gospel Meeting at the College Park Church of Christ in Conroe\, Texas.
DESCRIPTION:Wednesday through Friday services at 7:30 P.M. Refreshments served Friday after services. The Jubilee will take place on Saturday from 1-5 P.M. No Saturday evening service. Sunday services at 10:30 and 2:30 with lunch in-between.
URL:http://gulfcoastcofc.org/event/gospel-meeting-at-the-college-park-church-of-christ-in-conroe-texas/
LOCATION:College Park Church of Christ\, 17612 FM 1314\, Conroe\, TX\, 77302\, United States
END:VEVENT
BEGIN:VEVENT
DTSTART;VALUE=DATE:20211103
DTEND;VALUE=DATE:20211108
DTSTAMP:20260424T161711
CREATED:20211105T205153Z
LAST-MODIFIED:20211105T205153Z
UID:1663-1635897600-1636329599@gulfcoastcofc.org
SUMMARY:Gospel Meeting at the Baywood Church of Christ in Pasadena
DESCRIPTION:Service Times: Wednesday through Saturday at 7:30 P.M.\, and Sunday at 10:30 A.M. and 2:00 P.M. \nRefreshments will be served following Friday evening services\, and lunch will be served following Sunday morning services. \nAll are welcome!
URL:http://gulfcoastcofc.org/event/gospel-meeting-at-the-baywood-church-of-christ-in-pasadena-5/
LOCATION:Baywood Church of Christ\, 4720 Space Center Blvd\, Pasadena\, TX\, 77505\, United States
END:VEVENT
END:VCALENDAR